BEGIN:VCALENDAR
VERSION:2.0
CALSCALE:GREGORIAN
PRODID:-//Diputació de Barcelona//DibaCMS//EN
BEGIN:VEVENT
UID:10186
DTSTAMP:20260422T102115
DTSTART:20241002T120000
DTEND:20241002T130000
SUMMARY:Unitat mòbil de consum
LOCATION:C. Parra (al costat de l'Ajuntament) 
METHOD:PUBLISH
X-WR-CALNAME:info@castellviderosanes.cat
X-WR-TIMEZONE:Europe/Madrid
DESCRIPTION:
URI:https://www.castellviderosanes.cat/municipi/activitats/activitats-culturals/10186-unitat-mobil-de-consum.html
CLASS:PUBLIC
END:VEVENT
END:VCALENDAR
