BEGIN:VCALENDAR
VERSION:2.0
CALSCALE:GREGORIAN
PRODID:-//Diputació de Barcelona//DibaCMS//EN
BEGIN:VEVENT
UID:10201
DTSTAMP:20260422T170738
DTSTART:20241022T190000
DTEND:20241022T190000
SUMMARY:Taller sobre la menopausa - poble
LOCATION:Saló de plens de l'Ajuntament 
METHOD:PUBLISH
X-WR-CALNAME:info@castellviderosanes.cat
X-WR-TIMEZONE:Europe/Madrid
DESCRIPTION:
URI:https://www.castellviderosanes.cat/comunicacio/agenda/taller-sobre-la-menopausa-poble.html
CLASS:PUBLIC
END:VEVENT
END:VCALENDAR
