BEGIN:VCALENDAR
VERSION:2.0
CALSCALE:GREGORIAN
PRODID:-//Diputació de Barcelona//DibaCMS//EN
BEGIN:VEVENT
UID:10249
DTSTAMP:20260422T103351
DTSTART:20241123T180000
DTEND:20241123T180000
SUMMARY:Passatge del Terror
LOCATION:Camí d'enllaç entre el Taió i el poble. Inici pel cantó del Taió més pròxim al poble i final al carrer del Parc. 
METHOD:PUBLISH
X-WR-CALNAME:info@castellviderosanes.cat
X-WR-TIMEZONE:Europe/Madrid
DESCRIPTION:
URI:https://www.castellviderosanes.cat/municipi/activitats/activitats-culturals/10249-passatge-del-terror.html
CLASS:PUBLIC
END:VEVENT
END:VCALENDAR
