BEGIN:VCALENDAR
VERSION:2.0
CALSCALE:GREGORIAN
PRODID:-//Diputació de Barcelona//DibaCMS//EN
BEGIN:VEVENT
UID:10294
DTSTAMP:20260422T102013
DTSTART:20241123T090000
DTEND:20241123T090000
SUMMARY:Netegem el bosc. Cuidem Castellví
LOCATION:Sortida des de la plaça del Roure 
METHOD:PUBLISH
X-WR-CALNAME:info@castellviderosanes.cat
X-WR-TIMEZONE:Europe/Madrid
DESCRIPTION:
URI:https://www.castellviderosanes.cat/comunicacio/agenda/netegem-el-bosc-cuidem-castellvi.html
CLASS:PUBLIC
END:VEVENT
END:VCALENDAR
