BEGIN:VCALENDAR
VERSION:2.0
CALSCALE:GREGORIAN
PRODID:-//Diputació de Barcelona//DibaCMS//EN
BEGIN:VEVENT
UID:10345
DTSTAMP:20260422T112553
DTSTART:20241215T173000
DTEND:20241215T173000
SUMMARY:Berenar i bingo musical solidaris amb La Marató
LOCATION:Sala del CCR (C/ Parra, 27) 
METHOD:PUBLISH
X-WR-CALNAME:info@castellviderosanes.cat
X-WR-TIMEZONE:Europe/Madrid
DESCRIPTION:
URI:https://www.castellviderosanes.cat/municipi/activitats/activitats-culturals/berenar-i-bingo-musical-solidaris-amb-la-marato.html
CLASS:PUBLIC
END:VEVENT
END:VCALENDAR
