BEGIN:VCALENDAR
VERSION:2.0
CALSCALE:GREGORIAN
PRODID:-//Diputació de Barcelona//DibaCMS//EN
BEGIN:VEVENT
UID:10357
DTSTAMP:20260422T101027
DTSTART:20250111T190000
DTEND:20250111T190000
SUMMARY:Concert d'any nou
LOCATION:Sala del CCR (C/Parra, 27) 
METHOD:PUBLISH
X-WR-CALNAME:info@castellviderosanes.cat
X-WR-TIMEZONE:Europe/Madrid
DESCRIPTION:
URI:https://www.castellviderosanes.cat/municipi/activitats/activitats-culturals/10357-concert-dany-nou.html
CLASS:PUBLIC
END:VEVENT
END:VCALENDAR
