BEGIN:VCALENDAR
VERSION:2.0
CALSCALE:GREGORIAN
PRODID:-//Diputació de Barcelona//DibaCMS//EN
BEGIN:VEVENT
UID:10385
DTSTAMP:20260422T112727
DTSTART:20241223T183000
DTEND:20241223T183000
SUMMARY:Ple extraordinari
LOCATION:Saló de plens de l'Ajuntament 
METHOD:PUBLISH
X-WR-CALNAME:info@castellviderosanes.cat
X-WR-TIMEZONE:Europe/Madrid
DESCRIPTION:
URI:https://www.castellviderosanes.cat/ajuntament/electes-i-regidories/agenda-politica/10385-ple-extraordinari.html
CLASS:PUBLIC
END:VEVENT
END:VCALENDAR
