BEGIN:VCALENDAR
VERSION:2.0
CALSCALE:GREGORIAN
PRODID:-//Diputació de Barcelona//DibaCMS//EN
BEGIN:VEVENT
UID:10430
DTSTAMP:20260422T120418
DTSTART:20250125T183000
DTEND:20250125T183000
SUMMARY:Concert de butxaca amb Nabil Mansour 'Del riu a la mar'
LOCATION:Av. Mare de Déu de Montserrat, 29 (edifici petit) 08769 Castellví de Rosanes
METHOD:PUBLISH
X-WR-CALNAME:info@castellviderosanes.cat
X-WR-TIMEZONE:Europe/Madrid
DESCRIPTION:Organitza Associació Cultural EnRe9

URI:https://www.castellviderosanes.cat/municipi/activitats/activitats-culturals/concert-de-butxaca-amb-nabil-mansour-del-riu-a-la-mar.html
CLASS:PUBLIC
END:VEVENT
END:VCALENDAR
