BEGIN:VCALENDAR
VERSION:2.0
CALSCALE:GREGORIAN
PRODID:-//Diputació de Barcelona//DibaCMS//EN
BEGIN:VEVENT
UID:10473
DTSTAMP:20260422T124339
DTSTART:20250215T170000
DTEND:20250215T210000
SUMMARY:Concert i taller de tangos solidari
LOCATION:Sala gran del CCR (C. Parra) 
METHOD:PUBLISH
X-WR-CALNAME:info@castellviderosanes.cat
X-WR-TIMEZONE:Europe/Madrid
DESCRIPTION:Organitzat per l'Associació cultural EnRe9

URI:https://www.castellviderosanes.cat/municipi/activitats/activitats-culturals/concert-i-taller-de-tangos-solidari.html
CLASS:PUBLIC
END:VEVENT
END:VCALENDAR
