BEGIN:VCALENDAR
VERSION:2.0
CALSCALE:GREGORIAN
PRODID:-//Diputació de Barcelona//DibaCMS//EN
BEGIN:VEVENT
UID:10621
DTSTAMP:20260422T101124
DTSTART:20250509T180000
DTEND:20250509T210000
SUMMARY:Tardeo per a nois i noies d'ESO i 1r de batxillerat
LOCATION:Av. Mare de Déu de Montserrat, 29 08769 Castellví de Rosanes
METHOD:PUBLISH
X-WR-CALNAME:info@castellviderosanes.cat
X-WR-TIMEZONE:Europe/Madrid
DESCRIPTION:
URI:https://www.castellviderosanes.cat/municipi/activitats/activitats-culturals/tardeo-per-a-nois-i-noies-deso-i-1r-de-batxillerat.html
CLASS:PUBLIC
END:VEVENT
END:VCALENDAR
