BEGIN:VCALENDAR
VERSION:2.0
CALSCALE:GREGORIAN
PRODID:-//Diputació de Barcelona//DibaCMS//EN
BEGIN:VEVENT
UID:10647
DTSTAMP:20260422T125210
DTSTART:20250525T200000
DTEND:20250525T200000
SUMMARY:Festa Major. Refrigeri per sopar
LOCATION:Pista exterior del CCR (C/Duran) 
METHOD:PUBLISH
X-WR-CALNAME:info@castellviderosanes.cat
X-WR-TIMEZONE:Europe/Madrid
DESCRIPTION:
URI:https://www.castellviderosanes.cat/municipi/activitats/activitats-culturals/festa-major-refrigeri-per-sopar.html
CLASS:PUBLIC
END:VEVENT
END:VCALENDAR
