BEGIN:VCALENDAR
VERSION:2.0
CALSCALE:GREGORIAN
PRODID:-//Diputació de Barcelona//DibaCMS//EN
BEGIN:VEVENT
UID:10741
DTSTAMP:20260422T125054
DTSTART:20250730T120000
DTEND:20250730T130000
SUMMARY:Unitat mòbil de consum
LOCATION:C. Parra (al costat de l'Ajuntament) 
METHOD:PUBLISH
X-WR-CALNAME:info@castellviderosanes.cat
X-WR-TIMEZONE:Europe/Madrid
DESCRIPTION:
URI:https://www.castellviderosanes.cat/comunicacio/agenda/10741-unitat-mobil-de-consum.html
CLASS:PUBLIC
END:VEVENT
END:VCALENDAR
