BEGIN:VCALENDAR
VERSION:2.0
CALSCALE:GREGORIAN
PRODID:-//Diputació de Barcelona//DibaCMS//EN
BEGIN:VEVENT
UID:11027
DTSTAMP:20260421T115550
DTSTART:20251128T203000
DTEND:20251128T203000
SUMMARY:25N - Nit solidària contra les violències masclistes
LOCATION:Carrer de la Parra, 27 08769 Castellví de Rosanes
METHOD:PUBLISH
X-WR-CALNAME:info@castellviderosanes.cat
X-WR-TIMEZONE:Europe/Madrid
DESCRIPTION:
URI:https://www.castellviderosanes.cat/municipi/activitats/activitats-culturals/25n-nit-solidaria-contra-les-violencies-masclistes.html
CLASS:PUBLIC
END:VEVENT
END:VCALENDAR
