BEGIN:VCALENDAR
VERSION:2.0
CALSCALE:GREGORIAN
PRODID:-//Diputació de Barcelona//DibaCMS//EN
BEGIN:VEVENT
UID:11220
DTSTAMP:20260421T132713
DTSTART:20260306T183000
DTEND:20260306T183000
SUMMARY:8M. Lectura del manifest i creació col·lectiva d'una pancarta
LOCATION:C/ Sant Llorenç de Morunys, 6 bis 08769 Castellví de Rosanes
METHOD:PUBLISH
X-WR-CALNAME:info@castellviderosanes.cat
X-WR-TIMEZONE:Europe/Madrid
DESCRIPTION:
URI:https://www.castellviderosanes.cat/municipi/activitats/activitats-culturals/8m-lectura-del-manifest-i-creacio-collectiva-duna-pancarta.html
CLASS:PUBLIC
END:VEVENT
END:VCALENDAR
