BEGIN:VCALENDAR
VERSION:2.0
CALSCALE:GREGORIAN
PRODID:-//Diputació de Barcelona//DibaCMS//EN
BEGIN:VEVENT
UID:11237
DTSTAMP:20260421T132251
DTSTART:20260305T120000
DTEND:20260305T140000
SUMMARY:Reunió amb el director del servei territorial d'assitència a l'administració local
LOCATION:Ajuntament de Castellví de Rosanes 
METHOD:PUBLISH
X-WR-CALNAME:info@castellviderosanes.cat
X-WR-TIMEZONE:Europe/Madrid
DESCRIPTION:
URI:https://www.castellviderosanes.cat/ajuntament/electes-i-regidories/agenda-politica/reunio-amb-el-director-del-servei-territorial-dassitencia-a-ladministracio-local.html
CLASS:PUBLIC
END:VEVENT
END:VCALENDAR
