BEGIN:VCALENDAR
VERSION:2.0
CALSCALE:GREGORIAN
PRODID:-//Diputació de Barcelona//DibaCMS//EN
BEGIN:VEVENT
UID:11321
DTSTAMP:20260422T074527
DTSTART:20260424T180000
DTEND:20260424T190000
SUMMARY:Taller familiar a Can Sunyer: Fes el teu drac ferotge!
LOCATION:C/ Sant Llorenç de Morunys, 6 bis 08769 Castellví de Rosanes
METHOD:PUBLISH
X-WR-CALNAME:info@castellviderosanes.cat
X-WR-TIMEZONE:Europe/Madrid
DESCRIPTION:Dins la Setmana cultural de Sant Jordi 2026

URI:https://www.castellviderosanes.cat/municipi/activitats/activitats-culturals/taller-familiar-a-can-sunyer-fes-el-teu-drac-ferotge.html
CLASS:PUBLIC
END:VEVENT
END:VCALENDAR
