BEGIN:VCALENDAR
VERSION:2.0
CALSCALE:GREGORIAN
PRODID:-//Diputació de Barcelona//DibaCMS//EN
BEGIN:VEVENT
UID:11322
DTSTAMP:20260424T045956
DTSTART:20260425T183000
DTEND:20260425T183000
SUMMARY:Espectacle multidisciplinari: El sur también existe
LOCATION:Capella de l'antic convent de Miralles. Barri de Miralles (C/Convent, al final a l'esquerra) 
METHOD:PUBLISH
X-WR-CALNAME:info@castellviderosanes.cat
X-WR-TIMEZONE:Europe/Madrid
DESCRIPTION:Dins la Setmana cultural de Sant Jordi 2026

URI:https://www.castellviderosanes.cat/municipi/activitats/activitats-culturals/espectacle-multidisciplinari-el-sur-tambien-existe.html
CLASS:PUBLIC
END:VEVENT
END:VCALENDAR
