BEGIN:VCALENDAR
VERSION:2.0
CALSCALE:GREGORIAN
PRODID:-//Diputació de Barcelona//DibaCMS//EN
BEGIN:VEVENT
UID:11336
DTSTAMP:20260424T045656
DTSTART:20260426T063500
DTEND:20260426T130000
SUMMARY:2n Gran premi Castellví de Rosanes de ciclisme
LOCATION:Plaça del poble, av. Mare de Déu de Montserrat 
METHOD:PUBLISH
X-WR-CALNAME:info@castellviderosanes.cat
X-WR-TIMEZONE:Europe/Madrid
DESCRIPTION:Inici cursa a les 10.00h plaça del poble

URI:https://www.castellviderosanes.cat/municipi/activitats/activitats-esportives/2n-gran-premi-castellvi-de-rosanes-de-ciclisme.html
CLASS:PUBLIC
END:VEVENT
END:VCALENDAR
