BEGIN:VCALENDAR
VERSION:2.0
CALSCALE:GREGORIAN
PRODID:-//Diputació de Barcelona//DibaCMS//EN
BEGIN:VEVENT
UID:11338
DTSTAMP:20260421T124331
DTSTART:20260423T103000
DTEND:20260423T140000
SUMMARY:Espai informatiu dels 3rs Pressupostos participatius de Castellví de Rosanes
LOCATION:Plaça del poble 
METHOD:PUBLISH
X-WR-CALNAME:info@castellviderosanes.cat
X-WR-TIMEZONE:Europe/Madrid
DESCRIPTION:
URI:https://www.castellviderosanes.cat/comunicacio/agenda/espai-informatiu-dels-3rs-pressupostos-participatius-de-castellvi-de-rosanes.html
CLASS:PUBLIC
END:VEVENT
END:VCALENDAR
