BEGIN:VCALENDAR
VERSION:2.0
CALSCALE:GREGORIAN
PRODID:-//Diputació de Barcelona//DibaCMS//EN
BEGIN:VEVENT
UID:11339
DTSTAMP:20260423T033545
DTSTART:20260424T180000
DTEND:20260424T190000
SUMMARY:Espai informatiu dels 3rs Pressupostos participatius de Castellví de Rosanes
LOCATION:C/ Sant Llorenç de Morunys, 6 bis 08769 Castellví de Rosanes
METHOD:PUBLISH
X-WR-CALNAME:info@castellviderosanes.cat
X-WR-TIMEZONE:Europe/Madrid
DESCRIPTION:
URI:https://www.castellviderosanes.cat/comunicacio/agenda/11339-espai-informatiu-dels-3rs-pressupostos-participatius-de-castellvi-de-rosanes.html
CLASS:PUBLIC
END:VEVENT
END:VCALENDAR
