BEGIN:VCALENDAR
VERSION:2.0
CALSCALE:GREGORIAN
PRODID:-//Diputació de Barcelona//DibaCMS//EN
BEGIN:VEVENT
UID:1901
DTSTAMP:20260421T115148
DTSTART:20200911T110000
DTEND:20200911T120000
SUMMARY:Ballada de sardanes
LOCATION:Plaça del poble 
METHOD:PUBLISH
X-WR-CALNAME:info@castellviderosanes.cat
X-WR-TIMEZONE:Europe/Madrid
DESCRIPTION:Amb inscripció prèvia i aforament limitat

URI:https://www.castellviderosanes.cat/comunicacio/agenda/ballada-de-sardanes.html
CLASS:PUBLIC
END:VEVENT
END:VCALENDAR
