BEGIN:VCALENDAR
VERSION:2.0
CALSCALE:GREGORIAN
PRODID:-//Diputació de Barcelona//DibaCMS//EN
BEGIN:VEVENT
UID:1966
DTSTAMP:20260421T115358
DTSTART:20201019T190000
DTEND:20201019T200000
SUMMARY:Audiència pública del projecte d'ordenances 2021
LOCATION:Saló de plens de l'Ajuntament 
METHOD:PUBLISH
X-WR-CALNAME:info@castellviderosanes.cat
X-WR-TIMEZONE:Europe/Madrid
DESCRIPTION:
URI:https://www.castellviderosanes.cat/comunicacio/agenda/1966-audiencia-publica-del-projecte-dordenances-2021.html
CLASS:PUBLIC
END:VEVENT
END:VCALENDAR
