BEGIN:VCALENDAR
VERSION:2.0
CALSCALE:GREGORIAN
PRODID:-//Diputació de Barcelona//DibaCMS//EN
BEGIN:VEVENT
UID:2684
DTSTAMP:20260422T155027
DTSTART:20211130T000000
DTEND:20211130T000000
SUMMARY:Concert de benvinguda al Patge Picarol
LOCATION:Plaça del poble 
METHOD:PUBLISH
X-WR-CALNAME:info@castellviderosanes.cat
X-WR-TIMEZONE:Europe/Madrid
DESCRIPTION:
URI:https://www.castellviderosanes.cat/comunicacio/agenda/concert-de-benvinguda-al-patge-picarol.html
CLASS:PUBLIC
END:VEVENT
END:VCALENDAR
