BEGIN:VCALENDAR
VERSION:2.0
CALSCALE:GREGORIAN
PRODID:-//Diputació de Barcelona//DibaCMS//EN
BEGIN:VEVENT
UID:2686
DTSTAMP:20260422T112624
DTSTART:20211226T110000
DTEND:20211226T113000
SUMMARY:Arribada del Patge Picarol a Can Sunyer i Valldaina
LOCATION:C/ Sant Llorenç de Morunys, 6 bis 08769 Castellví de Rosanes
METHOD:PUBLISH
X-WR-CALNAME:info@castellviderosanes.cat
X-WR-TIMEZONE:Europe/Madrid
DESCRIPTION:
URI:https://www.castellviderosanes.cat/municipi/activitats/activitats-culturals/arribada-del-patge-picarol-a-can-sunyer-i-valldaina.html
CLASS:PUBLIC
END:VEVENT
END:VCALENDAR
