BEGIN:VCALENDAR
VERSION:2.0
CALSCALE:GREGORIAN
PRODID:-//Diputació de Barcelona//DibaCMS//EN
BEGIN:VEVENT
UID:2702
DTSTAMP:20260422T123828
DTSTART:20211213T180000
DTEND:20211213T180500
SUMMARY:Encesa dels llums de Nadal i de l'estel de la Cadireta
LOCATION:
METHOD:PUBLISH
X-WR-CALNAME:info@castellviderosanes.cat
X-WR-TIMEZONE:Europe/Madrid
DESCRIPTION:
URI:https://www.castellviderosanes.cat/municipi/activitats/activitats-culturals/encesa-dels-llums-de-nadal-i-de-lestel-de-la-cadireta.html
CLASS:PUBLIC
END:VEVENT
END:VCALENDAR
