BEGIN:VCALENDAR
VERSION:2.0
CALSCALE:GREGORIAN
PRODID:-//Diputació de Barcelona//DibaCMS//EN
BEGIN:VEVENT
UID:2779
DTSTAMP:20260420T100528
DTSTART:20220131T183000
DTEND:20220131T200000
SUMMARY:Ple ordinari 01/2022
LOCATION:Saló de plens 
METHOD:PUBLISH
X-WR-CALNAME:info@castellviderosanes.cat
X-WR-TIMEZONE:Europe/Madrid
DESCRIPTION:
URI:https://www.castellviderosanes.cat/comunicacio/agenda/ple-ordinari-012022.html
CLASS:PUBLIC
END:VEVENT
END:VCALENDAR
