BEGIN:VCALENDAR
VERSION:2.0
CALSCALE:GREGORIAN
PRODID:-//Diputació de Barcelona//DibaCMS//EN
BEGIN:VEVENT
UID:2806
DTSTAMP:20260422T100755
DTSTART:20220224T183000
DTEND:20220224T200000
SUMMARY:Trobada del Club de lectura de Castellví
LOCATION:Saló de plens de l'Ajuntament 
METHOD:PUBLISH
X-WR-CALNAME:info@castellviderosanes.cat
X-WR-TIMEZONE:Europe/Madrid
DESCRIPTION:
URI:https://www.castellviderosanes.cat/municipi/activitats/activitats-culturals/trobada-del-club-de-lectura-de-castellvi.html
CLASS:PUBLIC
END:VEVENT
END:VCALENDAR
