BEGIN:VCALENDAR
VERSION:2.0
CALSCALE:GREGORIAN
PRODID:-//Diputació de Barcelona//DibaCMS//EN
BEGIN:VEVENT
UID:2837
DTSTAMP:20260422T100931
DTSTART:20220227T110000
DTEND:20220227T130000
SUMMARY:Carnaval a Can Sunyer i Valldaina
LOCATION:C/ Montseny 08769 Castellví de Rosanes
METHOD:PUBLISH
X-WR-CALNAME:info@castellviderosanes.cat
X-WR-TIMEZONE:Europe/Madrid
DESCRIPTION:Rua, concurs de disfresses i música

URI:https://www.castellviderosanes.cat/municipi/activitats/activitats-culturals/2837-carnaval-a-can-sunyer-i-valldaina.html
CLASS:PUBLIC
END:VEVENT
END:VCALENDAR
