BEGIN:VCALENDAR
VERSION:2.0
CALSCALE:GREGORIAN
PRODID:-//Diputació de Barcelona//DibaCMS//EN
BEGIN:VEVENT
UID:2930
DTSTAMP:20260420T142138
DTSTART:20220503T180000
DTEND:20220503T200000
SUMMARY:Taller d'escriptura creativa per a dones 
LOCATION:Saló de plens 
METHOD:PUBLISH
X-WR-CALNAME:info@castellviderosanes.cat
X-WR-TIMEZONE:Europe/Madrid
DESCRIPTION:Última sessió

URI:https://www.castellviderosanes.cat/municipi/activitats/activitats-culturals/taller-descriptura-creativa-per-a-dones-.html
CLASS:PUBLIC
END:VEVENT
END:VCALENDAR
