BEGIN:VCALENDAR
VERSION:2.0
CALSCALE:GREGORIAN
PRODID:-//Diputació de Barcelona//DibaCMS//EN
BEGIN:VEVENT
UID:2939
DTSTAMP:20260422T100909
DTSTART:20220419T183000
DTEND:20220419T193000
SUMMARY:Presentació del llibre 'Res no es pot amagar'
LOCATION:
METHOD:PUBLISH
X-WR-CALNAME:info@castellviderosanes.cat
X-WR-TIMEZONE:Europe/Madrid
DESCRIPTION:Premi Delta de narrativa 2019-2020

URI:https://www.castellviderosanes.cat/municipi/activitats/activitats-culturals/presentacio-del-llibre-res-no-es-pot-amagar.html
CLASS:PUBLIC
END:VEVENT
END:VCALENDAR
