BEGIN:VCALENDAR
VERSION:2.0
CALSCALE:GREGORIAN
PRODID:-//Diputació de Barcelona//DibaCMS//EN
BEGIN:VEVENT
UID:2970
DTSTAMP:20260422T153257
DTSTART:20220429T180000
DTEND:20220429T180000
SUMMARY:Presentació del llibre 'Cuina catalana oblidada del que encara es cou i es menja'
LOCATION:Saló de plens 
METHOD:PUBLISH
X-WR-CALNAME:info@castellviderosanes.cat
X-WR-TIMEZONE:Europe/Madrid
DESCRIPTION:De Xesco Bueno, cuiner del restaurant Ca l'Esteve de Castellbisbal

URI:https://www.castellviderosanes.cat/municipi/activitats/activitats-culturals/presentacio-del-llibre-cuina-catalana-oblidada-del-que-encara-es-cou-i-es-menja.html
CLASS:PUBLIC
END:VEVENT
END:VCALENDAR
