BEGIN:VCALENDAR
VERSION:2.0
CALSCALE:GREGORIAN
PRODID:-//Diputació de Barcelona//DibaCMS//EN
BEGIN:VEVENT
UID:2982
DTSTAMP:20260420T100712
DTSTART:20220505T180000
DTEND:20220505T200000
SUMMARY:Xerrada famílies. L'assetjament: eines i estratègies per evitar-lo i actuar quan apareix
LOCATION:Taller online 
METHOD:PUBLISH
X-WR-CALNAME:info@castellviderosanes.cat
X-WR-TIMEZONE:Europe/Madrid
DESCRIPTION:Taller online

URI:https://www.castellviderosanes.cat/municipi/activitats/activitats-culturals/xerrada-families-lassetjament-eines-i-estrategies-per-evitar-lo-i-actuar-quan-apareix.html
CLASS:PUBLIC
END:VEVENT
END:VCALENDAR
