BEGIN:VCALENDAR
VERSION:2.0
CALSCALE:GREGORIAN
PRODID:-//Diputació de Barcelona//DibaCMS//EN
BEGIN:VEVENT
UID:2995
DTSTAMP:20260422T123556
DTSTART:20220522T180000
DTEND:20220522T193000
SUMMARY:Concert d'orgue i trompeta: música de festa major i de cinema
LOCATION:C/ Sant Isidre, 2 08790 Castellví de Rosanes 
METHOD:PUBLISH
X-WR-CALNAME:info@castellviderosanes.cat
X-WR-TIMEZONE:Europe/Madrid
DESCRIPTION:Amb Lorién Santana i Carles Raya

URI:https://www.castellviderosanes.cat/municipi/activitats/activitats-culturals/concert-dorgue-i-trompeta-musica-de-festa-major-i-de-cinema.html
CLASS:PUBLIC
END:VEVENT
END:VCALENDAR
