BEGIN:VCALENDAR
VERSION:2.0
CALSCALE:GREGORIAN
PRODID:-//Diputació de Barcelona//DibaCMS//EN
BEGIN:VEVENT
UID:3017
DTSTAMP:20260422T100832
DTSTART:20220527T230000
DTEND:20220528T040000
SUMMARY:Festa Major. Ball de festa i DJ
LOCATION:Plaça del poble 
METHOD:PUBLISH
X-WR-CALNAME:info@castellviderosanes.cat
X-WR-TIMEZONE:Europe/Madrid
DESCRIPTION:Gaudeix de la primera nit de Festa Major

URI:https://www.castellviderosanes.cat/municipi/activitats/activitats-culturals/festa-major-ball-de-festa-i-dj.html
CLASS:PUBLIC
END:VEVENT
END:VCALENDAR
