BEGIN:VCALENDAR
VERSION:2.0
CALSCALE:GREGORIAN
PRODID:-//Diputació de Barcelona//DibaCMS//EN
BEGIN:VEVENT
UID:3052
DTSTAMP:20260422T103539
DTSTART:20220614T183000
DTEND:20220614T200000
SUMMARY:Taller del sòl pelvià - 1a sessió Nucli antic
LOCATION:C/ Sant Llorenç de Morunys, 6 bis 08769 Castellví de Rosanes
METHOD:PUBLISH
X-WR-CALNAME:info@castellviderosanes.cat
X-WR-TIMEZONE:Europe/Madrid
DESCRIPTION:
URI:https://www.castellviderosanes.cat/comunicacio/agenda/taller-del-sol-pelvia-1a-sessio-nucli-antic.html
CLASS:PUBLIC
END:VEVENT
END:VCALENDAR
