BEGIN:VCALENDAR
VERSION:2.0
CALSCALE:GREGORIAN
PRODID:-//Diputació de Barcelona//DibaCMS//EN
BEGIN:VEVENT
UID:3054
DTSTAMP:20260420T100750
DTSTART:20220627T090000
DTEND:20220627T090000
SUMMARY:Inici Casal d'estiu 2022
LOCATION: C/ Manuel Fernández Peláez, 3 08769 Castellví de Rosanes
METHOD:PUBLISH
X-WR-CALNAME:info@castellviderosanes.cat
X-WR-TIMEZONE:Europe/Madrid
DESCRIPTION:
URI:https://www.castellviderosanes.cat/municipi/activitats/activitats-culturals/inici-casal-destiu-2022.html
CLASS:PUBLIC
END:VEVENT
END:VCALENDAR
