BEGIN:VCALENDAR
VERSION:2.0
CALSCALE:GREGORIAN
PRODID:-//Diputació de Barcelona//DibaCMS//EN
BEGIN:VEVENT
UID:3074
DTSTAMP:20260420T100419
DTSTART:20220623T210000
DTEND:20220624T020000
SUMMARY:Revetlla de Sant Joan a Can Sunyer i Valldaina
LOCATION:Jardí del Pont 
METHOD:PUBLISH
X-WR-CALNAME:info@castellviderosanes.cat
X-WR-TIMEZONE:Europe/Madrid
DESCRIPTION:Sopar a la fresca i música per ballar

URI:https://www.castellviderosanes.cat/municipi/activitats/activitats-culturals/revetlla-de-sant-joan-a-can-sunyer-i-valldaina.html
CLASS:PUBLIC
END:VEVENT
END:VCALENDAR
