BEGIN:VCALENDAR
VERSION:2.0
CALSCALE:GREGORIAN
PRODID:-//Diputació de Barcelona//DibaCMS//EN
BEGIN:VEVENT
UID:3092
DTSTAMP:20260421T143750
DTSTART:20230925T000000
DTEND:20230925T235900
SUMMARY:Festa local
LOCATION:
METHOD:PUBLISH
X-WR-CALNAME:info@castellviderosanes.cat
X-WR-TIMEZONE:Europe/Madrid
DESCRIPTION:
URI:https://www.castellviderosanes.cat/comunicacio/agenda/3092-festa-local.html
CLASS:PUBLIC
END:VEVENT
END:VCALENDAR
