BEGIN:VCALENDAR
VERSION:2.0
CALSCALE:GREGORIAN
PRODID:-//Diputació de Barcelona//DibaCMS//EN
BEGIN:VEVENT
UID:3119
DTSTAMP:20260422T101049
DTSTART:20220715T221500
DTEND:20220715T235900
SUMMARY:Cinema a la fresca: Escape Room (amb servei de bar abans)
LOCATION:Pista exterior del CCR 
METHOD:PUBLISH
X-WR-CALNAME:info@castellviderosanes.cat
X-WR-TIMEZONE:Europe/Madrid
DESCRIPTION:Protagonitzada per Joel Joan

URI:https://www.castellviderosanes.cat/comunicacio/agenda/cinema-a-la-fresca-escape-room-amb-servei-de-bar-abans.html
CLASS:PUBLIC
END:VEVENT
END:VCALENDAR
