BEGIN:VCALENDAR
VERSION:2.0
CALSCALE:GREGORIAN
PRODID:-//Diputació de Barcelona//DibaCMS//EN
BEGIN:VEVENT
UID:3126
DTSTAMP:20260422T122407
DTSTART:20220708T220000
DTEND:20220708T235900
SUMMARY:Cantada d'havaneres
LOCATION:C/ Montseny 08769 Castellví de Rosanes
METHOD:PUBLISH
X-WR-CALNAME:info@castellviderosanes.cat
X-WR-TIMEZONE:Europe/Madrid
DESCRIPTION:Per les festes de Can Sunyer i Valldaina

URI:https://www.castellviderosanes.cat/municipi/activitats/activitats-culturals/3126-cantada-dhavaneres.html
CLASS:PUBLIC
END:VEVENT
END:VCALENDAR
