BEGIN:VCALENDAR
VERSION:2.0
CALSCALE:GREGORIAN
PRODID:-//Diputació de Barcelona//DibaCMS//EN
BEGIN:VEVENT
UID:3130
DTSTAMP:20260422T123936
DTSTART:20220717T190000
DTEND:20220717T203000
SUMMARY:Concert: 3 tenors? Un concert a tres veus
LOCATION:Pista del CCR 
METHOD:PUBLISH
X-WR-CALNAME:info@castellviderosanes.cat
X-WR-TIMEZONE:Europe/Madrid
DESCRIPTION:Un concert líric amb un toc divertit

URI:https://www.castellviderosanes.cat/municipi/activitats/activitats-culturals/concert-3-tenors-un-concert-a-tres-veus.html
CLASS:PUBLIC
END:VEVENT
END:VCALENDAR
