BEGIN:VCALENDAR
VERSION:2.0
CALSCALE:GREGORIAN
PRODID:-//Diputació de Barcelona//DibaCMS//EN
BEGIN:VEVENT
UID:3142
DTSTAMP:20260420T100254
DTSTART:20220722T224500
DTEND:20220723T030000
SUMMARY:Festes de la joventut i de l'aigua
LOCATION:Carrer de Manel Fernández Peláez, s/n 08769 Castellví de Rosanes
METHOD:PUBLISH
X-WR-CALNAME:info@castellviderosanes.cat
X-WR-TIMEZONE:Europe/Madrid
DESCRIPTION:Festa amb DJ i holi escuma per acabar la nit

URI:https://www.castellviderosanes.cat/municipi/activitats/activitats-culturals/festes-de-la-joventut-i-de-laigua.html
CLASS:PUBLIC
END:VEVENT
END:VCALENDAR
