BEGIN:VCALENDAR
VERSION:2.0
CALSCALE:GREGORIAN
PRODID:-//Diputació de Barcelona//DibaCMS//EN
BEGIN:VEVENT
UID:3154
DTSTAMP:20260422T123811
DTSTART:20220723T183000
DTEND:20220723T193000
SUMMARY:Exhibició de trial  i trial per a infants
LOCATION:Plaça del poble 
METHOD:PUBLISH
X-WR-CALNAME:info@castellviderosanes.cat
X-WR-TIMEZONE:Europe/Madrid
DESCRIPTION:Gaudeix de les millors acrobàcies en directe

URI:https://www.castellviderosanes.cat/municipi/activitats/activitats-culturals/exhibicio-de-trial-i-trial-per-a-infants.html
CLASS:PUBLIC
END:VEVENT
END:VCALENDAR
