BEGIN:VCALENDAR
VERSION:2.0
CALSCALE:GREGORIAN
PRODID:-//Diputació de Barcelona//DibaCMS//EN
BEGIN:VEVENT
UID:3155
DTSTAMP:20260422T100715
DTSTART:20220723T210000
DTEND:20220724T020000
SUMMARY:Festa de la cervesa i concerts 
LOCATION:Pista del CCR 
METHOD:PUBLISH
X-WR-CALNAME:info@castellviderosanes.cat
X-WR-TIMEZONE:Europe/Madrid
DESCRIPTION:Gaudeix de les nits d'estiu a la fresca!

URI:https://www.castellviderosanes.cat/municipi/activitats/activitats-culturals/festa-de-la-cervesa-i-concerts-.html
CLASS:PUBLIC
END:VEVENT
END:VCALENDAR
