BEGIN:VCALENDAR
VERSION:2.0
CALSCALE:GREGORIAN
PRODID:-//Diputació de Barcelona//DibaCMS//EN
BEGIN:VEVENT
UID:3206
DTSTAMP:20260422T123621
DTSTART:20220911T090000
DTEND:20220911T090000
SUMMARY:Diada 2022. Hissada de la senyera a la Cadireta
LOCATION:Plaça del Roure 
METHOD:PUBLISH
X-WR-CALNAME:info@castellviderosanes.cat
X-WR-TIMEZONE:Europe/Madrid
DESCRIPTION:Es cantaran Els segadors

URI:https://www.castellviderosanes.cat/municipi/activitats/activitats-culturals/diada-2022-hissada-de-la-senyera-a-la-cadireta.html
CLASS:PUBLIC
END:VEVENT
END:VCALENDAR
