BEGIN:VCALENDAR
VERSION:2.0
CALSCALE:GREGORIAN
PRODID:-//Diputació de Barcelona//DibaCMS//EN
BEGIN:VEVENT
UID:3211
DTSTAMP:20260422T112450
DTSTART:20220916T163000
DTEND:20220916T180000
SUMMARY:Inici classes qi gong, taitxí i gimnàstica suau
LOCATION:C/ Sant Llorenç de Morunys, 6 bis 08769 Castellví de Rosanes
METHOD:PUBLISH
X-WR-CALNAME:info@castellviderosanes.cat
X-WR-TIMEZONE:Europe/Madrid
DESCRIPTION:Amb inscripció prèvia. Centre Cívic de Can Sunyer i Valladaina

URI:https://www.castellviderosanes.cat/municipi/activitats/activitats-esportives/inici-classes-qi-gong-taitxi-i-gimnastica-suau.html
CLASS:PUBLIC
END:VEVENT
END:VCALENDAR
