BEGIN:VCALENDAR
VERSION:2.0
CALSCALE:GREGORIAN
PRODID:-//Diputació de Barcelona//DibaCMS//EN
BEGIN:VEVENT
UID:3213
DTSTAMP:20260422T112308
DTSTART:20220912T100000
DTEND:20220912T110000
SUMMARY:Inici pilates matinal
LOCATION:C/ Sant Llorenç de Morunys, 6 bis 08769 Castellví de Rosanes
METHOD:PUBLISH
X-WR-CALNAME:info@castellviderosanes.cat
X-WR-TIMEZONE:Europe/Madrid
DESCRIPTION:Amb inscripció prèvia. Al Centre Cívic de Can Sunyer i Valldaina

URI:https://www.castellviderosanes.cat/municipi/activitats/activitats-esportives/inici-pilates-matinal.html
CLASS:PUBLIC
END:VEVENT
END:VCALENDAR
