BEGIN:VCALENDAR
VERSION:2.0
CALSCALE:GREGORIAN
PRODID:-//Diputació de Barcelona//DibaCMS//EN
BEGIN:VEVENT
UID:3214
DTSTAMP:20260422T124129
DTSTART:20220914T173000
DTEND:20220914T183000
SUMMARY:Inici pilates tarda
LOCATION:C/ Sant Llorenç de Morunys, 6 bis 08769 Castellví de Rosanes
METHOD:PUBLISH
X-WR-CALNAME:info@castellviderosanes.cat
X-WR-TIMEZONE:Europe/Madrid
DESCRIPTION:Amb inscripció prèvia. Al Centre Cívic de Can Sunyer i Valldaina

URI:https://www.castellviderosanes.cat/municipi/activitats/activitats-esportives/inici-pilates-tarda.html
CLASS:PUBLIC
END:VEVENT
END:VCALENDAR
