BEGIN:VCALENDAR
VERSION:2.0
CALSCALE:GREGORIAN
PRODID:-//Diputació de Barcelona//DibaCMS//EN
BEGIN:VEVENT
UID:3236
DTSTAMP:20260422T112418
DTSTART:20221005T183000
DTEND:20221005T200000
SUMMARY:Taller sobre sexualitat femenina
LOCATION:C/ Sant Llorenç de Morunys, 6 bis 08769 Castellví de Rosanes
METHOD:PUBLISH
X-WR-CALNAME:info@castellviderosanes.cat
X-WR-TIMEZONE:Europe/Madrid
DESCRIPTION:A càrrec d'una psicòloga i sexòloga

URI:https://www.castellviderosanes.cat/comunicacio/agenda/taller-sobre-sexualitat-femenina.html
CLASS:PUBLIC
END:VEVENT
END:VCALENDAR
