BEGIN:VCALENDAR
VERSION:2.0
CALSCALE:GREGORIAN
PRODID:-//Diputació de Barcelona//DibaCMS//EN
BEGIN:VEVENT
UID:3247
DTSTAMP:20260422T123743
DTSTART:20220925T110000
DTEND:20220925T160000
SUMMARY:1a Fira Tastets de vi
LOCATION:Plaça del poble 
METHOD:PUBLISH
X-WR-CALNAME:info@castellviderosanes.cat
X-WR-TIMEZONE:Europe/Madrid
DESCRIPTION:En el marc de la Festa de Sant Miquel

URI:https://www.castellviderosanes.cat/municipi/activitats/activitats-culturals/1a-fira-tastets-de-vi.html
CLASS:PUBLIC
END:VEVENT
END:VCALENDAR
